BEGIN:VCALENDAR
VERSION:2.0
PRODID:-//Río Hondo News - ECPv6.15.20//NONSGML v1.0//EN
CALSCALE:GREGORIAN
METHOD:PUBLISH
X-WR-CALNAME:Río Hondo News
X-ORIGINAL-URL:https://riohondonews.com
X-WR-CALDESC:Eventos para Río Hondo News
REFRESH-INTERVAL;VALUE=DURATION:PT1H
X-Robots-Tag:noindex
X-PUBLISHED-TTL:PT1H
BEGIN:VTIMEZONE
TZID:America/Sao_Paulo
BEGIN:STANDARD
TZOFFSETFROM:-0300
TZOFFSETTO:-0300
TZNAME:-03
DTSTART:20220101T000000
END:STANDARD
END:VTIMEZONE
BEGIN:VEVENT
DTSTART;TZID=America/Sao_Paulo:20250426T173000
DTEND;TZID=America/Sao_Paulo:20250426T203000
DTSTAMP:20260419T102939
CREATED:20250324T123337Z
LAST-MODIFIED:20250324T123337Z
UID:6541-1745688600-1745699400@riohondonews.com
SUMMARY:Termas Endurance
DESCRIPTION:Termas Endurance 10K\, una ccompetencia atlética única donde podrás experimentar la emoción de correr en la pista del Autódromo Internacional Termas de Río Hondo.
URL:https://riohondonews.com/eventos/termas-endurance/
LOCATION:Autodromo Termas de Rio Hondo\, Avenida Costanera\, Termas de Rio Hondo\, Santiago del Estero\, 4220\, Argentina
ATTACH;FMTTYPE=image/jpeg:https://riohondonews.com/wp-content/uploads/2025/03/Capturadsfsd-640x480-1.jpg
END:VEVENT
BEGIN:VEVENT
DTSTART;TZID=America/Sao_Paulo:20230926T080000
DTEND;TZID=America/Sao_Paulo:20230929T170000
DTSTAMP:20260419T102939
CREATED:20230921T024202Z
LAST-MODIFIED:20230921T024202Z
UID:3012-1695715200-1696006800@riohondonews.com
SUMMARY:60° CONGRESO ARGENTINO DE NEUROLOGÍA
DESCRIPTION:Desde el 26 al 29 de septiembre se realizará en la ciudad de Las Termas de Río Hondo el Congreso Argentino de Neurología\, que contará con la presencia de más de 2.500 profesionales de esta especialidad y alrededor de 200 reconocidos oradores de Argentina y extranjeros. Esta actividad se desarrollará bajo las modalidades virtual y presencial.
URL:https://riohondonews.com/eventos/60-congreso-argentino-de-neurologia/
LOCATION:Centro Cultural San Martin\, Suipacha y Av. Manuel Belgrano\, Termas de Rio Hondo\, Argentina
ATTACH;FMTTYPE=image/jpeg:https://riohondonews.com/wp-content/uploads/2023/09/327115058_1366979703841135_918582739820047316_n.jpg
END:VEVENT
BEGIN:VEVENT
DTSTART;TZID=America/Sao_Paulo:20230917T100000
DTEND;TZID=America/Sao_Paulo:20230918T200000
DTSTAMP:20260419T102939
CREATED:20230827T015802Z
LAST-MODIFIED:20230827T015802Z
UID:2799-1694944800-1695067200@riohondonews.com
SUMMARY:EXPOTERMAS 2023
DESCRIPTION:Uno de los eventos de belleza y moda más grandes del país. Campeonatos\, Sorteos\, Party\, Artistas del mundo de la moda y mucho mas
URL:https://riohondonews.com/eventos/expotermas-2023/
LOCATION:Centro Cultural San Martin\, Suipacha y Av. Manuel Belgrano\, Termas de Rio Hondo\, Argentina
ATTACH;FMTTYPE=image/jpeg:https://riohondonews.com/wp-content/uploads/2023/08/97a01c0a-0f39-4829-b011-6b57602ccab1.jpg
END:VEVENT
BEGIN:VEVENT
DTSTART;TZID=America/Sao_Paulo:20230908T080000
DTEND;TZID=America/Sao_Paulo:20230912T170000
DTSTAMP:20260419T102939
CREATED:20230830T231425Z
LAST-MODIFIED:20230918T134000Z
UID:2833-1694160000-1694538000@riohondonews.com
SUMMARY:JUEGOS EVITA ADULTOS MAYORES
DESCRIPTION:Personas mayores de 60 años participan compitiendo en: Tejo\, Ajedrez\, Newcom (vóleibol modificado)\, Tenis de mesa y Sapo.
URL:https://riohondonews.com/eventos/juegos-evita-adultos-mayores/
LOCATION:Polideportivo Municipal\, Av Peron y Belgrano
ATTACH;FMTTYPE=image/png:https://riohondonews.com/wp-content/uploads/2023/08/logo_jevita_mayores_75.png
END:VEVENT
BEGIN:VEVENT
DTSTART;TZID=America/Sao_Paulo:20230906T200000
DTEND;TZID=America/Sao_Paulo:20230906T235900
DTSTAMP:20260419T102939
CREATED:20230827T020418Z
LAST-MODIFIED:20230827T020418Z
UID:2803-1694030400-1694044740@riohondonews.com
SUMMARY:ANIVERSARIO TERMAS DE RIO HONDO
DESCRIPTION:Eventos en vía publica por 69 aniversario de la ciudad de Las Termas de Rio Hondo. Presentación de la Delio Valdez
URL:https://riohondonews.com/eventos/aniversario-termas-de-rio-hondo/
LOCATION:Plaza San Martin\, Caseros y Rivadavia\, Termas de Río Hondo\, Argentina
ATTACH;FMTTYPE=image/jpeg:https://riohondonews.com/wp-content/uploads/2023/08/369599936_683757177129000_1343192240979725116_n.jpg
END:VEVENT
BEGIN:VEVENT
DTSTART;TZID=America/Sao_Paulo:20230902T100000
DTEND;TZID=America/Sao_Paulo:20230902T120000
DTSTAMP:20260419T102939
CREATED:20230826T171352Z
LAST-MODIFIED:20230826T171352Z
UID:2781-1693648800-1693656000@riohondonews.com
SUMMARY:3° MARCHA DE LOS BOMBOS
DESCRIPTION:Cientos de personas marchando por las calles de Las Termas de Rio Hondo al ritmo del bombo\, instrumento típico de la cultura santiagueña.
URL:https://riohondonews.com/eventos/3-marcha-de-los-bombos/
LOCATION:Centro Cultural San Martin\, Suipacha y Av. Manuel Belgrano\, Termas de Rio Hondo\, Argentina
ATTACH;FMTTYPE=image/jpeg:https://riohondonews.com/wp-content/uploads/2023/08/368013712_6772592889419086_5652903260628879110_n.jpg
END:VEVENT
BEGIN:VEVENT
DTSTART;TZID=America/Sao_Paulo:20230827T153000
DTEND;TZID=America/Sao_Paulo:20230827T180000
DTSTAMP:20260419T102939
CREATED:20230804T015456Z
LAST-MODIFIED:20230804T015456Z
UID:2619-1693150200-1693159200@riohondonews.com
SUMMARY:TE DESFILE 33 ANIVERSARIO HOGAR DE ANCIANOS
DESCRIPTION:Evento a beneficio del Hogar de Ancianos «Eghly de Maurizio» de Termas de Rio Hondo. Participación de diseñadoras locales.
URL:https://riohondonews.com/eventos/te-desfile-33-aniversario-hogar-de-ancianos/
LOCATION:Hogar de Ancianos
ATTACH;FMTTYPE=image/jpeg:https://riohondonews.com/wp-content/uploads/2023/08/363378851_674243298081530_5578030441958675694_n.jpg
END:VEVENT
BEGIN:VEVENT
DTSTART;VALUE=DATE:20230818
DTEND;VALUE=DATE:20230822
DTSTAMP:20260419T102939
CREATED:20230804T013511Z
LAST-MODIFIED:20230804T013738Z
UID:2612-1692316800-1692662399@riohondonews.com
SUMMARY:RAID DE LA AMISTAD
DESCRIPTION:Autos antiguos. 80 joyas mecánicas y sus conductores vestidos con trajes de la época le pondrán color\, alegría e historia al centro de la ciudad.
URL:https://riohondonews.com/eventos/raid-de-la-amistad/
LOCATION:Plaza San Martin\, Caseros y Rivadavia\, Termas de Río Hondo\, Argentina
ATTACH;FMTTYPE=image/jpeg:https://riohondonews.com/wp-content/uploads/2023/08/termas-autos-800x600-1.jpg
END:VEVENT
BEGIN:VEVENT
DTSTART;TZID=America/Sao_Paulo:20230802T150000
DTEND;TZID=America/Sao_Paulo:20230802T170000
DTSTAMP:20260419T102939
CREATED:20230719T184734Z
LAST-MODIFIED:20230719T192321Z
UID:2493-1690988400-1690995600@riohondonews.com
SUMMARY:CARRERA DE MOZOS Y CAMARERAS
DESCRIPTION:Trabajadores gastronómicos mostrando sus destrezas
URL:https://riohondonews.com/eventos/carrera-de-mozos-y-camareras/
LOCATION:Santiago del Estero
ATTACH;FMTTYPE=image/jpeg:https://riohondonews.com/wp-content/uploads/2023/07/359806648_764036525722580_5862376009811285891_n-1600x1200-1.jpg
END:VEVENT
BEGIN:VEVENT
DTSTART;TZID=America/Sao_Paulo:20230723T150000
DTEND;TZID=America/Sao_Paulo:20230723T190000
DTSTAMP:20260419T102939
CREATED:20230721T220740Z
LAST-MODIFIED:20230721T221431Z
UID:2531-1690124400-1690138800@riohondonews.com
SUMMARY:TODOS POR IAN LEAL
DESCRIPTION:Evento solidario con presentaciones artísticas. Venta de Platos Dulces\, Panchuques para ayudar a la familia de Ian quien se encuentra internado desde 2019 en el Hospital Garrahan y debe someterse a varias cirugias
URL:https://riohondonews.com/eventos/todos-por-ian-leal/
LOCATION:Escenario Hermanos Abalos\, Termas de Rio Hondo\, Santiago del Estero\, Argentina
ATTACH;FMTTYPE=image/jpeg:https://riohondonews.com/wp-content/uploads/2023/07/360141299_216231311392537_8050030572079445238_n.jpg
END:VEVENT
END:VCALENDAR